BEGIN:VCALENDAR
VERSION:2.0
PRODID:icalendar-ruby
CALSCALE:GREGORIAN
METHOD:PUBLISH
BEGIN:VEVENT
DTSTAMP:20260423T073634Z
UID:event-82935@stampinup.net
DTSTART;VALUE=DATE:20210408
DTEND;VALUE=DATE:20210408
CREATED:20201229T073530
DESCRIPTION:For scheduling purposes\, I am continuing with our All Occasion
  Cards classes here at the StampThat Studio since I do not know when the l
 ibrary will open for classes.  We will make 12 cards (3 each of 4 designs
 ) for which you can choose the sentiment that best fits your needs.\n\n \
 n\nWhen:  Choose one of the dates listed below to attend\n\n\n	Thursday\,
  April 1\, 1:00 OR 6:30 P.M.\n	Tuesday\, April 6\, 6:30 P.M.\n	Thursday\, 
 April 8\, 1:00 OR 6:30 P.M.\n\n\n \n\nWhere: StampThat\, New Freedom\, PA
 \n\nCost: non-refundable $18.00 \n\nRSVP:  with payment\, at least 2 days
  before you plan to attend class\n\nWhat to bring:  Stampin’ Seal and T
 ear &amp\; Tape\n\n\nEvent link: https://stampinup.net/crm/events/82935
LAST-MODIFIED:20201229T073530
LOCATION:StampThat Studio\, New Freedom\, PA
ORGANIZER;CN=Becky Jensen:mailto:becky@stampthat.com
SUMMARY:April All Occasion Cards
URL;VALUE=URI:https://stampinup.net/crm/events/82935
END:VEVENT
END:VCALENDAR
