BEGIN:VCALENDAR
VERSION:2.0
PRODID:icalendar-ruby
CALSCALE:GREGORIAN
METHOD:PUBLISH
BEGIN:VEVENT
DTSTAMP:20260421T202114Z
UID:event-82878@stampinup.net
DTSTART;VALUE=DATE:20210121
DTEND;VALUE=DATE:20210121
CREATED:20201229T070114
DESCRIPTION:Valentine Gift\n\nCreate a special gift for your valentine this
  year.  Watch my blog for a picture of this gift!\n\nWhen:  Choose one o
 f the dates listed below to attend\n\n\n	Thursday\, January 14\, 1:00 OR 6
 :30 P.M.\n	Tuesday\, January 19\, 6:30 P.M.\n	Thursday\, January 21\, 1:00
  OR 6:30 P.M.\n\n\n \n\nWhere: StampThat\, New Freedom\, PA\n\nCost: non-
 refundable $30.00 \n\nRSVP:  with payment\, at least 2 days before you pl
 an to attend class\n\nWhat to bring: Snail &amp\; Tear n Tape\n\n\nEvent l
 ink: https://stampinup.net/crm/events/82878
LAST-MODIFIED:20201229T070114
LOCATION:StampThat Studio\, New Freedom\, PA
ORGANIZER;CN=Becky Jensen:mailto:becky@stampthat.com
SUMMARY:Valentine Gift
URL;VALUE=URI:https://stampinup.net/crm/events/82878
END:VEVENT
END:VCALENDAR
