BEGIN:VCALENDAR
VERSION:2.0
PRODID:icalendar-ruby
CALSCALE:GREGORIAN
METHOD:PUBLISH
BEGIN:VEVENT
DTSTAMP:20260421T112439Z
UID:event-81500@stampinup.net
DTSTART;TZID=Australia/Sydney:20210513T100000
DTEND;TZID=Australia/Sydney:20210513T120000
CREATED:20201212T223728
DESCRIPTION:How about coming along to this class and learn more about Stamp
 in' Up! and what they have to offer.\nWe will make 3 cards using some of t
 he products.\nCost $22\nPh: 408868771\nBookings are required as seats are 
 limited\n\nEvent link: https://stampinup.net/crm/events/81500
LAST-MODIFIED:20201212T223728
LOCATION:Moss Vale
ORGANIZER;CN=Michele Jutrisa:mailto:michele@jutrisa.com
SUMMARY:Card making Class - AM
URL;VALUE=URI:https://stampinup.net/crm/events/81500
END:VEVENT
END:VCALENDAR
