BEGIN:VCALENDAR
VERSION:2.0
PRODID:icalendar-ruby
CALSCALE:GREGORIAN
METHOD:PUBLISH
BEGIN:VEVENT
DTSTAMP:20260425T235158Z
UID:event-79080@stampinup.net
DTSTART;VALUE=DATE:20201124
DTEND;VALUE=DATE:20201124
CREATED:20201119T203448
DESCRIPTION:24 - hour only Online Holiday Extravaganza. Nearly all products
  in our 2020-2021 Annual Catalog will be discounted 10% for one day only. 
 Bundles and suites included. Please place your order online at www.marykna
 be.stampinup.net using Host Code JYUC2H6N. Do not use host code if your 
 order is $150+ as you will receive Stampin' Rewards. If you need assistanc
 e ordering\, please contact me at mknabe2008@gmail.com with name\, item 
 number\, and price of each product you wish to order and your payment info
 rmation.\n\n*Some exclusions do apply.\n\nEvent link: https://stampinup.ne
 t/crm/events/79080
LAST-MODIFIED:20201119T203507
ORGANIZER;CN=Mary Knabe:mailto:mknabe2008@gmail.com
SUMMARY:Merry & Bright Online Extravaganza
URL;VALUE=URI:https://stampinup.net/crm/events/79080
END:VEVENT
END:VCALENDAR
