BEGIN:VCALENDAR
VERSION:2.0
PRODID:icalendar-ruby
CALSCALE:GREGORIAN
METHOD:PUBLISH
BEGIN:VEVENT
DTSTAMP:20260421T125541Z
UID:event-77970@stampinup.net
DTSTART;TZID=Europe/London:20210113T180000
DTEND;TZID=Europe/London:20210113T190000
CREATED:20201110T140702
DESCRIPTION:Weekly video on You Tube - www.youtube.com/twinksstamping\n\nEv
 ent link: https://stampinup.net/crm/events/77970
LAST-MODIFIED:20201110T140906
ORGANIZER;CN=Jan Dicks:mailto:twinksstamping@live.com
SUMMARY:WEEKLY VIDEO
URL;VALUE=URI:https://stampinup.net/crm/events/77970
END:VEVENT
END:VCALENDAR
