BEGIN:VCALENDAR
VERSION:2.0
PRODID:icalendar-ruby
CALSCALE:GREGORIAN
METHOD:PUBLISH
BEGIN:VEVENT
DTSTAMP:20260422T170915Z
UID:event-77921@stampinup.net
DTSTART;TZID=America/Los_Angeles:20201210T030000
DTEND;TZID=America/Los_Angeles:20201210T225900
CREATED:20201110T104913
DESCRIPTION:Get your craft on with the monthly Paper Pumpkin kit!  Such a 
 wonderful amazing value:  kit project\, stamp set and and ink spot all fo
 r $22 plus your local tax (FREE SHIPPING).  You can subscribe here for th
 is months kit if done by the 10th:  https://www.paperpumpkin.com/subscrib
 e?demoid=21860\n\nAll subscribers will be invited to join my private FB pa
 ge for ideas and information on these fun kits.\n\nEvent link: https://sta
 mpinup.net/crm/events/77921
LAST-MODIFIED:20210609T103218
LOCATION:Your Crafting Space\, Your Address!
ORGANIZER;CN=Deb Naylor:mailto:debnaylor@comcast.net
SUMMARY:Last Day to Subscribe For The Monthly Paper Pumpkin Kit
URL;VALUE=URI:https://stampinup.net/crm/events/77921
RRULE:FREQ=MONTHLY
END:VEVENT
END:VCALENDAR
