BEGIN:VCALENDAR
VERSION:2.0
PRODID:icalendar-ruby
CALSCALE:GREGORIAN
METHOD:PUBLISH
BEGIN:VEVENT
DTSTAMP:20260421T131947Z
UID:event-77305@stampinup.net
DTSTART;TZID=America/Chicago:20201106T190000
DTEND;TZID=America/Chicago:20201106T200000
CREATED:20201104T132536
DESCRIPTION:Let's wrap up Day 1 of On Stage with a Zoom get together! \n\n
 Event link: https://stampinup.net/crm/events/77305
LAST-MODIFIED:20201104T132930
ORGANIZER;CN=Angie Juda:mailto:angie@chicnscratch.com
SUMMARY:Chics Paper Ink -On Stage Day 1 Wrap up
URL;VALUE=URI:https://stampinup.net/crm/events/77305
END:VEVENT
END:VCALENDAR
