BEGIN:VCALENDAR
VERSION:2.0
PRODID:icalendar-ruby
CALSCALE:GREGORIAN
METHOD:PUBLISH
BEGIN:VEVENT
DTSTAMP:20260421T202118Z
UID:event-77204@stampinup.net
DTSTART;TZID=America/Chicago:20201105T170000
DTEND;TZID=America/Chicago:20201107T170000
CREATED:20201103T200018
DESCRIPTION:I get to attend Stampin' Up's Virtual OnStage Event and hang ou
 t with Stampin' Up employees\, fellow demonstrators from around the world 
 and more! Celebrating\, stamping\, and seeing new products are just a few 
 highlights! I am so excited!\n\nEvent link: https://stampinup.net/crm/even
 ts/77204
LAST-MODIFIED:20201103T200018
LOCATION:Online!
ORGANIZER;CN=Laura Borchert:mailto:lauraborchert29@gmail.com
SUMMARY:Stampin' Up OnStage Event!
URL;VALUE=URI:https://stampinup.net/crm/events/77204
END:VEVENT
END:VCALENDAR
