BEGIN:VCALENDAR
VERSION:2.0
PRODID:icalendar-ruby
CALSCALE:GREGORIAN
METHOD:PUBLISH
BEGIN:VEVENT
DTSTAMP:20260423T232852Z
UID:event-76366@stampinup.net
DTSTART;VALUE=DATE:20210105
DTEND;VALUE=DATE:20210105
CREATED:20201029T103527
DESCRIPTION:Sale-A-Bration Begins today. Place your orders BEFORE February 
 28th\, 2021.\n\nEvent link: https://stampinup.net/crm/events/76366
LAST-MODIFIED:20201029T103700
ORGANIZER;CN=Dawn Stock:mailto:StampingWithDawn@hotmail.com
SUMMARY:Sale-A-Bration Begins
URL;VALUE=URI:https://stampinup.net/crm/events/76366
END:VEVENT
END:VCALENDAR
