BEGIN:VCALENDAR
VERSION:2.0
PRODID:icalendar-ruby
CALSCALE:GREGORIAN
METHOD:PUBLISH
BEGIN:VEVENT
DTSTAMP:20260423T174033Z
UID:event-76012@stampinup.net
DTSTART;TZID=America/New_York:20201121T093000
DTEND;TZID=America/New_York:20201121T120000
CREATED:20201027T100153
DESCRIPTION:\nJoin me for a morning of Christmas card mass-production and c
 ome away with 20 beautiful\, ready-to-mail cards with envelopes. Don't nee
 d that many cards? Get together with a friend from your social bubble\, en
 joy some quality girl-time and split the class between you. Or keep one se
 t of ten cards for yourself and gift the second set to someone special.\n\
 n \n\nThis is the perfect class for new crafters\, as the only supplies n
 eeded are scissors and adhesives...no stamping required! Seasoned stampers
  will also love how quickly and easily these projects come together.\n\n 
 \n\nYour $55 class fee includes:\n\n \n\nWonder of the Season Memories &a
 mp\; More Card Pack\n\nWonder of the Season Cards &amp\; envelopes\n\nWond
 erful Gems Embellishments\n\nAdditional embellishments and ribbon required
  to complete projects\n\nLive Zoom class and access to recording afterward
 s\, if needed.\n\n \n\nCost: $55 \n\n(includes FREE porch pick-up in Cam
 bridge. Add $10 for postage if needed)\n\n \n\nClick HERE to register bef
 ore November 6th\, 2020.\n\n\n \n\n\nEvent link: https://stampinup.net/cr
 m/events/76012
LAST-MODIFIED:20201027T100356
LOCATION:Online via Zoom
ORGANIZER;CN=Leena Girsa:mailto:lgirsa@gmail.com
SUMMARY:Wonder of the Season Memories & More Christmas Card Class
URL;VALUE=URI:https://stampinup.net/crm/events/76012
END:VEVENT
END:VCALENDAR
