BEGIN:VCALENDAR
VERSION:2.0
PRODID:icalendar-ruby
CALSCALE:GREGORIAN
METHOD:PUBLISH
BEGIN:VEVENT
DTSTAMP:20260425T012544Z
UID:event-75641@stampinup.net
DTSTART;TZID=America/Chicago:20201122T130000
DTEND;TZID=America/Chicago:20201122T160000
CREATED:20201025T104048
DESCRIPTION:Come and have fun making Christmas cards! \n\nWe will be makin
 g 3 different cards and a candle band. I will show you several techniques 
 to take your cards from simple-stamping to WOW!\n\nAll supplies (except ad
 hesive) are included. Bring your scissors for detailed cutting and adhesiv
 es.\n\nMultipurpose Liquid Glue\, Glue Dots\, Dimensionals\, Stampin' Seal
  (new tape runner)\, and Tear-n-Tape will be available for purchase in my 
 studio.\n\nCost is $25\n\nPLEASE RSVP by November 11\, 2020\, so that I ma
 y prepare the kits. Class size is limited to 4 for proper social distancin
 g. Masks are optional. Please do not come if you are sick or have a fever.
  \n\nStamp Sets that will be used are:\nTo be announced\n\nBring a friend
  and receive a gift from me as a thank you for introducing us. I'll give y
 our friend a gift too!\n \n\nEvent link: https://stampinup.net/crm/events
 /75641
LAST-MODIFIED:20201025T104219
LOCATION:Murray Stamps Studio\, 3511 Royal Woods Dr.\, Crystal Lake  IL 600
 14
ORGANIZER;CN=Ann Murray:mailto:AMGassman@sbcglobal.net
SUMMARY:CHRISTMAS CARD WORKSHOP
URL;VALUE=URI:https://stampinup.net/crm/events/75641
END:VEVENT
END:VCALENDAR
