BEGIN:VCALENDAR
VERSION:2.0
PRODID:icalendar-ruby
CALSCALE:GREGORIAN
METHOD:PUBLISH
BEGIN:VEVENT
DTSTAMP:20260421T152751Z
UID:event-75524@stampinup.net
DTSTART;TZID=America/Chicago:20201118T180000
DTEND;TZID=America/Chicago:20201118T200000
CREATED:20201025T081852
DESCRIPTION:\n\nEvent link: https://stampinup.net/crm/events/75524
LAST-MODIFIED:20201025T081852
ORGANIZER;CN=Shari Caspers:mailto:Lcaspers@winternet.com
SUMMARY:Zoom Stamp Club
URL;VALUE=URI:https://stampinup.net/crm/events/75524
END:VEVENT
END:VCALENDAR
