BEGIN:VCALENDAR
VERSION:2.0
PRODID:icalendar-ruby
CALSCALE:GREGORIAN
METHOD:PUBLISH
BEGIN:VEVENT
DTSTAMP:20260419T232552Z
UID:event-75359@stampinup.net
DTSTART;TZID=Australia/Sydney:20201128T130000
DTEND;TZID=Australia/Sydney:20201128T160000
CREATED:20201024T020048
DESCRIPTION: \n\nCome and join the fun\, getting into the festive spirit t
 ogether!\n\nThe Christmas Countdown Project Kit comes with all the decorat
 ive things to put on the little 'drawers'.\nAnd then you can decorate the 
 back of them as well to use for another occasion!\n\nIncluded in the Class
  cost\, I will be providing one sheet of 12 x 12 or 4 of the 6 x 6 Designe
 r Series Paper (some choice is available - discuss when booking class)\,
  to cover the back of the 'drawers' as well. And also a Die cut Alphabet 
 set. And a few extra little goodies!\n\nClass cost is $20 – contact me f
 or payment details\n\nChristmas Countdown Project Kit costs $52 - purchase
  yours early from my online store so you don't miss out! Link to my shop 
 https://s.tamp.in/7RPs89\, with some other suggestions as well.\n\nDon't f
 orget to use the November Host Code NQH4P2UG on orders under $250.\n\nIf
  ordering over $250 no need to use the host code\, you will receive Stampi
 n Rewards! (Yes\, free products!) Just remember to select me as your demon
 strator when ordering\, or order through my fionafernandez.stampinup.net\n
 \nYou will need your own tools and adhesives and pre-purchase of the Kit o
 r you can use your own products that you already have.  Eg. Little Treat 
 Box Dies\, or the Mini Curvy Keepsakes Box dies\n\nTo book your spot in th
 e class\, send me a message or email.\n\nFiona - Byfihandcrafts@gmail.com
 \n\n\n \n\n\nEvent link: https://stampinup.net/crm/events/75359
LAST-MODIFIED:20201026T043107
LOCATION:Online
ORGANIZER;CN=Fiona Fernandez:mailto:Byfihandcrafts@gmail.com
SUMMARY:Christmas Countdown Project Kit Online Class
URL;VALUE=URI:https://stampinup.net/crm/events/75359
END:VEVENT
END:VCALENDAR
