BEGIN:VCALENDAR
VERSION:2.0
PRODID:icalendar-ruby
CALSCALE:GREGORIAN
METHOD:PUBLISH
BEGIN:VEVENT
DTSTAMP:20260425T132230Z
UID:event-74831@stampinup.net
DTSTART;TZID=America/Denver:20201121T100000
DTEND;TZID=America/Denver:20201121T170000
CREATED:20201020T104654
DESCRIPTION:Cozy crafting with Christmas Cards and a Hot Cocoa Bar: The hol
 idays don't get merrier than this!\n\n* 4 different card *sets* to choose 
 from (each set includes 8 of the same card and matching envelopes) Each se
 t is $16. \n* PRE-Order up to 6 sets of cards. ($1 per set discount if or
 dering 4 or more sets) by NOVEMBER 16th!!\n* Bring scissors and adhesive t
 o complete your cards. Adhesive will be available to purchase at the class
 . \n* You may come and go at the time that works best for you between 10 
 am and 5 pm\, but plan approximately 45 minutes per set of cards you plan 
 to create. \n\nCard choices will be posted on creativejuicebyloni.com and
  in the Christmas Cards &amp\; Cocoa Facebook Event by November 1st. \n\n
 Enjoy a warm drink at the Cocoa Bar during the event!\n\nEvent link: https
 ://stampinup.net/crm/events/74831
LAST-MODIFIED:20201021T082003
LOCATION:Creative Juice By Loni\, 195 N 200 E\, Spanish Fork\, UT 84660
ORGANIZER;CN=Loni Spendlove:mailto:lonispendlove@gmail.com
SUMMARY:Christmas Cards & Cocoa
URL;VALUE=URI:https://stampinup.net/crm/events/74831
END:VEVENT
END:VCALENDAR
