BEGIN:VCALENDAR
VERSION:2.0
PRODID:icalendar-ruby
CALSCALE:GREGORIAN
METHOD:PUBLISH
BEGIN:VEVENT
DTSTAMP:20260423T202125Z
UID:event-7458@stampinup.net
DTSTART;TZID=America/Chicago:20191023T130000
DTEND;TZID=America/Chicago:20191023T200000
CREATED:20190914T220018
DESCRIPTION:2 classes available:  pick one or do both\nMy stamping tables 
 will be open starting at 1pm and will be open through mid evening so find 
 a time in there that works for you. Schedule yourself in anytime between 1
 pm and 8pm.  Reserve your time slot when you register.\n\nChristmas Card 
 Stamp-a-Stack\nGet a head start on your Christmas cards. Make 20 cards: 4 
 each of 5 different designs. Class fee is $30\n\nHalloween Cards\nStamp 8 
 spooky Halloween cards. The class is FREE with a qualifying purchase at th
 e event or $18.\n\nEvent link: https://stampinup.net/crm/events/7458
LAST-MODIFIED:20191002T163224
ORGANIZER;CN=Katie Johnson:mailto:katiejohnson@inkcrediblecrafts.com
SUMMARY:Double Event: Christmas and/or Halloween
URL;VALUE=URI:https://stampinup.net/crm/events/7458
END:VEVENT
END:VCALENDAR
