BEGIN:VCALENDAR
VERSION:2.0
PRODID:icalendar-ruby
CALSCALE:GREGORIAN
METHOD:PUBLISH
BEGIN:VEVENT
DTSTAMP:20260423T172231Z
UID:event-74559@stampinup.net
DTSTART;TZID=America/Los_Angeles:20210417T183000
DTEND;TZID=America/Los_Angeles:20210417T210000
CREATED:20201018T163113
DESCRIPTION:Come join me to stamp and chat - work on your own projects in t
 he virtual company of others!\n\nFree to Join!\nZoom Information: https:/
 /us02web.zoom.us/j/87512387816?pwd=Y0xJRW1pWDU5OGV4TjlYSFc3VGMwQT09\n\nEve
 nt link: https://stampinup.net/crm/events/74559
LAST-MODIFIED:20201018T163113
LOCATION:Online
ORGANIZER;CN=Melva Peters:mailto:stampinwithmelva@gmail.com
SUMMARY:Stamp n' Chat
URL;VALUE=URI:https://stampinup.net/crm/events/74559
END:VEVENT
END:VCALENDAR
