BEGIN:VCALENDAR
VERSION:2.0
PRODID:icalendar-ruby
CALSCALE:GREGORIAN
METHOD:PUBLISH
BEGIN:VEVENT
DTSTAMP:20260422T153332Z
UID:event-73700@stampinup.net
DTSTART;TZID=America/Chicago:20201107T100000
DTEND;TZID=America/Chicago:20201107T163000
CREATED:20201013T164906
DESCRIPTION:General Sessions\, Stamping Sessions and Break Out Sessions - W
 atch Party open to all my team members.\nContact me to learn how to join m
 y team and participate in the Watch Party\n\nEvent link: https://stampinup
 .net/crm/events/73700
LAST-MODIFIED:20201013T164906
LOCATION:3025 Vega Ave\, Mayer\, MN 55360
ORGANIZER;CN=Robyn Rasset:mailto:rrasset@frontier.com
SUMMARY:OnStage - Virtual Watch Party
URL;VALUE=URI:https://stampinup.net/crm/events/73700
END:VEVENT
END:VCALENDAR
