BEGIN:VCALENDAR
VERSION:2.0
PRODID:icalendar-ruby
CALSCALE:GREGORIAN
METHOD:PUBLISH
BEGIN:VEVENT
DTSTAMP:20260424T161637Z
UID:event-7366@stampinup.net
DTSTART;VALUE=DATE:20191219
DTEND;VALUE=DATE:20191219
CREATED:20190914T190303
DESCRIPTION:Demonstrator Support will be closed\; you can still place onlin
 e orders. We will work limited hours in the Distribution Center\, focusing
  on expedited orders. \n\nEvent link: https://stampinup.net/crm/events/736
 6
LAST-MODIFIED:20191214T091107
ORGANIZER;CN=Roxie Nitti:mailto:RNittiStamping@hotmail.com
SUMMARY:Stampin’ Up! Closed for Innovation Day
URL;VALUE=URI:https://stampinup.net/crm/events/7366
END:VEVENT
END:VCALENDAR
