BEGIN:VCALENDAR
VERSION:2.0
PRODID:icalendar-ruby
CALSCALE:GREGORIAN
METHOD:PUBLISH
BEGIN:VEVENT
DTSTAMP:20260421T045355Z
UID:event-73411@stampinup.net
DTSTART;TZID=America/New_York:20201125T200000
DTEND;TZID=America/New_York:20201125T230000
CREATED:20201012T080429
DESCRIPTION:Join me at The Wednesday Night Market on Oct 28th! This will be
  an event like no other! I look forward to seeing you there - https://www.
 facebook.com/TheWednesdayNightMarket\nWant to be reminded of the event? Ma
 ke sure to select going at this link: https://www.facebook.com/events/2106
 60553683164\n\nEvent link: https://stampinup.net/crm/events/73411
LAST-MODIFIED:20201012T080429
LOCATION:Facebook
ORGANIZER;CN=Amanda Farlinger:mailto:info@fromwhereistamp.ca
SUMMARY:The Wednesday Night Market
URL;VALUE=URI:https://stampinup.net/crm/events/73411
END:VEVENT
END:VCALENDAR
