BEGIN:VCALENDAR
VERSION:2.0
PRODID:icalendar-ruby
CALSCALE:GREGORIAN
METHOD:PUBLISH
BEGIN:VEVENT
DTSTAMP:20260424T034410Z
UID:event-72545@stampinup.net
DTSTART;TZID=America/Chicago:20220921T190000
DTEND;TZID=America/Chicago:20220921T200000
CREATED:20201005T195022
DESCRIPTION:Join me on my Facebook Page called "papermadeprettier" each Wed
 nesday at 7pm. \n\nEvent link: https://stampinup.net/crm/events/72545
LAST-MODIFIED:20250929T200557
ORGANIZER;CN=Kay Cogbill:mailto:cogbill22@yahoo.com
SUMMARY:Facebook Live with Kay
URL;VALUE=URI:https://stampinup.net/crm/events/72545
END:VEVENT
END:VCALENDAR
