BEGIN:VCALENDAR
VERSION:2.0
PRODID:icalendar-ruby
CALSCALE:GREGORIAN
METHOD:PUBLISH
BEGIN:VEVENT
DTSTAMP:20260419T140536Z
UID:event-72310@stampinup.net
DTSTART;TZID=Australia/Sydney:20201015T140000
DTEND;TZID=Australia/Sydney:20201015T170000
CREATED:20201004T101301
DESCRIPTION:Monthly Project Class \n\nThis month’s class will focus on Ar
 tistry Blooms Suite.\nIt will also be offered as a Class by Mail\, contact
  me for details.\n\n\n	RSVP by Thursday 8 October\n	Cost $30 (in person cl
 ass only)\n	Bookings Essential to order product for class\n	Monthly Projec
 t Class held 3rd Thursday of the month\n	Suitable for intermediate to adva
 nced stampers \n	Only 8 in person spots available\n	Bring your own basic s
 upplies including adhesive\n\n\nLooking forward to sharing some creative t
 ime with you soon.\n\nCancellation Policy\n\nPlease RSVP by the listed dat
 e. Kits will only be prepared for those who have confirmed their attendanc
 e.\n\nProject Kit Class: once kits are ordered/prepared there is no refund
  available. Additional costs may apply to have the kit sent to you. Please
  note that no images will be stamped for these kits.\n\n\nEvent link: http
 s://stampinup.net/crm/events/72310
LAST-MODIFIED:20201004T101301
LOCATION:Wendy Hodkinson\, Independent Stampin' Up! Demonstrator\, My Studi
 o\, 15 Lewin Street\, Inverell
ORGANIZER;CN=Wendy Hodkinson:mailto:wendy_hodkinson@yahoo.com.au
SUMMARY:Artistry Blooms Suite Class
URL;VALUE=URI:https://stampinup.net/crm/events/72310
END:VEVENT
END:VCALENDAR
