BEGIN:VCALENDAR
VERSION:2.0
PRODID:icalendar-ruby
CALSCALE:GREGORIAN
METHOD:PUBLISH
BEGIN:VEVENT
DTSTAMP:20260422T171801Z
UID:event-72306@stampinup.net
DTSTART;TZID=Australia/Sydney:20201028T120000
DTEND;TZID=Australia/Sydney:20201028T140000
CREATED:20201004T095244
DESCRIPTION:Technique Class\nThis week’s technique will be Shadowing.\n
 • RSVP Wednesday 21 October.\n• Cost $20\n• Bookings essential\n• 
 Class held online and 4th Wednesday of the month\n• Suitable for any lev
 el stamper\n• Journal (6” X 8”) essential\n• Only 8 in person spot
 s available\n• Bring your own basic supplies including adhesive\nLooking
  forward to sharing some creative time with you soon.\n\nCancellation Poli
 cy\nPlease RSVP by the listed date. Kits will only be prepared for those w
 ho have confirmed their attendance.\nLess than 48 hours cancellation notic
 e: you will still need to pay the class fee and any associated costs to ge
 t the pre-cut class kit to you. Please note that no images will be stamped
  for these kits.\n\nEvent link: https://stampinup.net/crm/events/72306
LAST-MODIFIED:20201004T095322
LOCATION:Wendy Hodkinson\, Independent Stampin' Up! Demonstrator\, My Studi
 o\, 15 Lewin Street\, Inverell
ORGANIZER;CN=Wendy Hodkinson:mailto:wendy_hodkinson@yahoo.com.au
SUMMARY:Technique Class
URL;VALUE=URI:https://stampinup.net/crm/events/72306
END:VEVENT
END:VCALENDAR
