BEGIN:VCALENDAR
VERSION:2.0
PRODID:icalendar-ruby
CALSCALE:GREGORIAN
METHOD:PUBLISH
BEGIN:VEVENT
DTSTAMP:20260420T045605Z
UID:event-72222@stampinup.net
DTSTART;TZID=America/Chicago:20201003T160000
DTEND;TZID=America/Chicago:20201003T163000
CREATED:20201002T212802
DESCRIPTION:Let's celebrate card making!\n\nEvent link: https://stampinup.n
 et/crm/events/72222
LAST-MODIFIED:20201002T212802
ORGANIZER;CN=Susan Kremer:mailto:tsvak.mn@netzero.net
SUMMARY:World Cardmaking Day--Live Video
URL;VALUE=URI:https://stampinup.net/crm/events/72222
END:VEVENT
END:VCALENDAR
