BEGIN:VCALENDAR
VERSION:2.0
PRODID:icalendar-ruby
CALSCALE:GREGORIAN
METHOD:PUBLISH
BEGIN:VEVENT
DTSTAMP:20260420T230614Z
UID:event-71994@stampinup.net
DTSTART;TZID=America/Chicago:20201010T140000
DTEND;TZID=America/Chicago:20201010T160000
CREATED:20201001T201314
DESCRIPTION:\nRSVP and payment due by Monday\, October 5\, by 7pm​\n​Cl
 ass Fee - $25​\nGRRRace Inker class fee--$7\n​Postage if you'd like ki
 t mailed--add $5​\nChristmas card class will be held at 2pm Saturday\, O
 ctober 10. Demonstrations of the cards will be on Facebook LIVE while bein
 g demonstrated to live class and I will be available to answer any questio
 ns from 2-4pm. You will then be able to finish the rest of your cards on y
 our own. But\, you can always send me any questions you may have along the
  way and I'll answer them as soon as possible. You will also have access t
 o Class FB Group indefinitely whether you attend in person or online.​\n
 ​Design 1 uses DSP from either Flowers for Every Season or 'Tis the Seas
 on with matching cardstock and ribbon. You may use Christmas sentiment sta
 mp of your choice.\n​Design 2 uses dies along with ink blending backgrou
 nd. You will want ink colors of your choice for background\, sponges for b
 lending\, and Christmas sentiment stamp of your choice. \nSee Less\n\nEve
 nt link: https://stampinup.net/crm/events/71994
LAST-MODIFIED:20201001T202206
LOCATION:My Stamping Spot\, Augusta\, KS
ORGANIZER;CN=Angel Shaver:mailto:angelstamps@adaptivecrafting.com
SUMMARY:Christmas Card Club
URL;VALUE=URI:https://stampinup.net/crm/events/71994
END:VEVENT
END:VCALENDAR
