BEGIN:VCALENDAR
VERSION:2.0
PRODID:icalendar-ruby
CALSCALE:GREGORIAN
METHOD:PUBLISH
BEGIN:VEVENT
DTSTAMP:20260423T140757Z
UID:event-7187@stampinup.net
DTSTART;TZID=America/Chicago:20191005T100000
DTEND;TZID=America/Chicago:20191005T160000
CREATED:20190914T134051
DESCRIPTION:Come celebrate World Card Making Day by getting ready for Hallo
 ween\, Thanksgiving and Christmas!\n\nAM Class will be Tricky Treats and T
 hankful Eats.  We'll make three Halloween treat containers\, a Halloween 
 Card and a treat for Thanksgiving.\n\nPM Class with be our stunning Advent
  Calendar!  We will also make two gift card holders that are not your ave
 rage Gift Card holders.\n\nPrice is $60 which includes the Advent Calendar
  Kit\, all supplies for the projects. a special goodie bag and lunch!\n\nP
 lease RSVP via this Calendar entry or email me at ruthieb76137@yahoo.com 
  by September 25th so I will have plenty of time to order the Advent Calen
 dar Kits.  When you RSVP I will send a Paypal Request.  When I have rece
 ived your payment\, you will be registered for the event.  I can't wait t
 o spend the day crafting with you!!!!\n\nEvent link: https://stampinup.net
 /crm/events/7187
LAST-MODIFIED:20190915T055039
LOCATION:Ruthie's House\, 6705 Fire Hill Dr. FTW 76137
ORGANIZER;CN=Ruthie Burkey:mailto:ruthieb76137@yahoo.com
SUMMARY:Word Cardmaking Day
URL;VALUE=URI:https://stampinup.net/crm/events/7187
END:VEVENT
END:VCALENDAR
