BEGIN:VCALENDAR
VERSION:2.0
PRODID:icalendar-ruby
CALSCALE:GREGORIAN
METHOD:PUBLISH
BEGIN:VEVENT
DTSTAMP:20260422T034120Z
UID:event-71748@stampinup.net
DTSTART;TZID=America/Denver:20201022T190000
DTEND;TZID=America/Denver:20201022T200000
CREATED:20201001T052221
DESCRIPTION:Zoom Meeting for the Nacho Average Stampers!\n\nEvent link: htt
 ps://stampinup.net/crm/events/71748
LAST-MODIFIED:20201001T052221
LOCATION:zoom!
ORGANIZER;CN=Tammy Fite:mailto:stampwithtammy@gmail.com
SUMMARY:Nacho Average Zoom Meeting
URL;VALUE=URI:https://stampinup.net/crm/events/71748
END:VEVENT
END:VCALENDAR
