BEGIN:VCALENDAR
VERSION:2.0
PRODID:icalendar-ruby
CALSCALE:GREGORIAN
METHOD:PUBLISH
BEGIN:VEVENT
DTSTAMP:20260425T221816Z
UID:event-71715@stampinup.net
DTSTART;TZID=America/Chicago:20201016T193000
DTEND;TZID=America/Chicago:20201016T203000
CREATED:20200930T221002
DESCRIPTION:Join us live for a fun class. One Sheet Wonder with fun fold. O
 n YouTube at https://youtu.be/0wDTGTfEcTg\n\nEvent link: https://stampinu
 p.net/crm/events/71715
LAST-MODIFIED:20200930T221226
LOCATION:YouTube 
ORGANIZER;CN=France Martin:mailto:frenchiestamps@hotmail.com
SUMMARY:One Sheet Wonder Fun Fold Live Class 
URL;VALUE=URI:https://stampinup.net/crm/events/71715
END:VEVENT
END:VCALENDAR
