BEGIN:VCALENDAR
VERSION:2.0
PRODID:icalendar-ruby
CALSCALE:GREGORIAN
METHOD:PUBLISH
BEGIN:VEVENT
DTSTAMP:20260423T163934Z
UID:event-70877@stampinup.net
DTSTART;VALUE=DATE:20201004
DTEND;VALUE=DATE:20201004
CREATED:20200924T111310
DESCRIPTION:Private stamping party!\n\nEvent link: https://stampinup.net/cr
 m/events/70877
LAST-MODIFIED:20200924T111520
ORGANIZER;CN=Raissa Spatola:mailto:raissa@raissastamps.com
SUMMARY:Private party
URL;VALUE=URI:https://stampinup.net/crm/events/70877
END:VEVENT
END:VCALENDAR
