BEGIN:VCALENDAR
VERSION:2.0
PRODID:icalendar-ruby
CALSCALE:GREGORIAN
METHOD:PUBLISH
BEGIN:VEVENT
DTSTAMP:20260419T200224Z
UID:event-70871@stampinup.net
DTSTART;VALUE=DATE:20201126
DTEND;VALUE=DATE:20201126
CREATED:20200924T105903
DESCRIPTION:"Oh give thanks to the Lord\, for he is good\, for his steadfas
 t love endures forever!" Psalm 107:1\n\nEnjoy your day!\n\nEvent link: ht
 tps://stampinup.net/crm/events/70871
LAST-MODIFIED:20200924T105903
ORGANIZER;CN=Dawn Stock:mailto:StampingWithDawn@hotmail.com
SUMMARY:Happy Thanksgiving!
URL;VALUE=URI:https://stampinup.net/crm/events/70871
END:VEVENT
END:VCALENDAR
