BEGIN:VCALENDAR
VERSION:2.0
PRODID:icalendar-ruby
CALSCALE:GREGORIAN
METHOD:PUBLISH
BEGIN:VEVENT
DTSTAMP:20260420T023545Z
UID:event-70419@stampinup.net
DTSTART;VALUE=DATE:20200923
DTEND;VALUE=DATE:20200923
CREATED:20200922T064618
DESCRIPTION:ONE DAY ONLY STAMP SALE in my Online Store!!\n\nEvent link: htt
 ps://stampinup.net/crm/events/70419
LAST-MODIFIED:20200922T065154
LOCATION:My Online Store
ORGANIZER;CN=Nancy Ferb:mailto:nancyferb50@gmail.com
SUMMARY:24 hr SALE
URL;VALUE=URI:https://stampinup.net/crm/events/70419
END:VEVENT
END:VCALENDAR
