BEGIN:VCALENDAR
VERSION:2.0
PRODID:icalendar-ruby
CALSCALE:GREGORIAN
METHOD:PUBLISH
BEGIN:VEVENT
DTSTAMP:20260422T103952Z
UID:event-70346@stampinup.net
DTSTART;TZID=America/New_York:20201029T190000
DTEND;TZID=America/New_York:20201029T210000
CREATED:20200921T214938
DESCRIPTION:Come and stamp with me--the LAST Thursday of the month!\n\nWe'l
 l make 6 cards with envelopes--2 each of 3 designs. This month will be:\n
 \n\n	Birthday\n	Thank you\n	Thinking of You\n\n\n\nBRING A NEW (adult) FRI
 END\, and you'll each get to make 2 more cards of a 4th design!\n\nCost: $
 15 or FREE with a minimum purchase\nRSVP by Tuesday\, 10/27\n\n\nEvent lin
 k: https://stampinup.net/crm/events/70346
LAST-MODIFIED:20200921T214938
LOCATION:my home\, 2520 Michael Ave SW\, Wyoming\, MI 
ORGANIZER;CN=Stephanie Flath:mailto:stephanieflath@gmail.com
SUMMARY:ALL OCCASIONS CARD CLASS
URL;VALUE=URI:https://stampinup.net/crm/events/70346
END:VEVENT
END:VCALENDAR
