BEGIN:VCALENDAR
VERSION:2.0
PRODID:icalendar-ruby
CALSCALE:GREGORIAN
METHOD:PUBLISH
BEGIN:VEVENT
DTSTAMP:20260421T163154Z
UID:event-70288@stampinup.net
DTSTART;TZID=America/Denver:20201215T180000
DTEND;TZID=America/Denver:20201215T200000
CREATED:20200921T155548
DESCRIPTION:Class in the mail. All classes are $25.00 shipped to you. (Ship
 ping included)\n\n            3- Adhesives   |  SEAL  |  D
 imensionals   |   Mini Glue Dots\n\n            2- Ink Pads
 \n\n            1- Stamp set     Everything else is include
 d in your kit! \n\nDECEMBER- POINSETTIA PETALS stamp set\, Soft Suede and
  Garden Green ink pads and adhesive. I will provide the rest.\n\nClass wi
 ll include pre cut kits to make 10 cards (2 each of 5 designs).\n\nRegistr
 ation due December 1st\n\n\n	Kits will be mailed out on or before Decembe
 r 8th\n	Zoom class will be held Thursday December 16th at 6:00 mountain 
 time\n\n\n\nEvent link: https://stampinup.net/crm/events/70288
LAST-MODIFIED:20200921T155548
LOCATION:On Line
ORGANIZER;CN=Susan Legits:mailto:abqstamper@comcast.net
SUMMARY:DECEMBER  3-2-1 CLASS IN THE MAIL
URL;VALUE=URI:https://stampinup.net/crm/events/70288
END:VEVENT
END:VCALENDAR
