BEGIN:VCALENDAR
VERSION:2.0
PRODID:icalendar-ruby
CALSCALE:GREGORIAN
METHOD:PUBLISH
BEGIN:VEVENT
DTSTAMP:20260422T103946Z
UID:event-70062@stampinup.net
DTSTART;TZID=America/New_York:20201003T100000
DTEND;TZID=America/New_York:20201003T120000
CREATED:20200920T224830
DESCRIPTION:Let's stamp together VIRTUALLY on World Card-Making Day!!!\n\nI
  normally have a Shoebox Swap every year\, but this year is a little diffe
 rent. And I decided I wanted to include MORE people than could be included
  at an in-person event right now.\n\nI'm planning something along with lin
 es of our Double Wonder Class we did a few months ago. I'll take a pic of 
 what I'm using and give you a list of what you'll wanna have ready for our
  class that morning.\n\nThere is no class fee\, and you'll use your own su
 pplies you have on hand.\n\nWe'll meet on my Facebook business page: www.F
 acebook.com/DazzledByStamping\n\n \n\nEvent link: https://stampinup.net/c
 rm/events/70062
LAST-MODIFIED:20200920T224830
LOCATION:ONLINE!!\, https://www.facebook.com/DazzledByStamping
ORGANIZER;CN=Stephanie Flath:mailto:stephanieflath@gmail.com
SUMMARY:WORLD CARD-MAKING DAY FACEBOOK LIVE!
URL;VALUE=URI:https://stampinup.net/crm/events/70062
END:VEVENT
END:VCALENDAR
