BEGIN:VCALENDAR
VERSION:2.0
PRODID:icalendar-ruby
CALSCALE:GREGORIAN
METHOD:PUBLISH
BEGIN:VEVENT
DTSTAMP:20260422T103957Z
UID:event-70041@stampinup.net
DTSTART;TZID=America/New_York:20200924T190000
DTEND;TZID=America/New_York:20200924T210000
CREATED:20200920T215106
DESCRIPTION:Come and stamp with me--the LAST Thursday of the month!\n\nWe'l
 l make 6 cards with envelopes--2 each of 3 designs. This month will be:\n
 \n\n	Birthday\n	Thank you\n	Congratulations\n\n\n\nBRING A NEW (adult) FRI
 END\, and you'll each get to make 2 more cards of a 4th design!\n\nCost: $
 15 or FREE with a minimum purchase\nRSVP by Tuesday\, 9/22\n\n\nEvent link
 : https://stampinup.net/crm/events/70041
LAST-MODIFIED:20200920T221119
LOCATION:my home\, 2520 Michael Ave SW\, Wyoming\, MI 
ORGANIZER;CN=Stephanie Flath:mailto:stephanieflath@gmail.com
SUMMARY:ALL OCCASIONS CARD CLASS
URL;VALUE=URI:https://stampinup.net/crm/events/70041
END:VEVENT
END:VCALENDAR
