BEGIN:VCALENDAR
VERSION:2.0
PRODID:icalendar-ruby
CALSCALE:GREGORIAN
METHOD:PUBLISH
BEGIN:VEVENT
DTSTAMP:20260424T200243Z
UID:event-70023@stampinup.net
DTSTART;TZID=America/Chicago:20201020T180000
DTEND;TZID=America/Chicago:20201020T203000
CREATED:20200920T193544
DESCRIPTION:This super fun card event is extra special as it included the S
 imply Cirtus Pholopolyer Stamp Set!  You'll make 15 cards (3 each of 5 di
 fferent designs) with All Occasion themes!  This special kit and supplies
  is $35.  Bring your Essentials Kit (scissors\, adhesives\, &amp\; bone f
 older). If you do not have an Essential Kit\, one can be purchased from in
 structor at class. Supply fee of $15 due to instructor at time of class.\n
 \nRegister with Hastings Community Ed # 51177A\nHastings Community Educati
 on\n\nEvent link: https://stampinup.net/crm/events/70023
LAST-MODIFIED:20200920T193724
LOCATION:TIlden Community Center\, 310 River St\, Hastings MN
ORGANIZER;CN=Roxie Nitti:mailto:RNittiStamping@hotmail.com
SUMMARY:Stamp-A-Stack: Simply Citrus
URL;VALUE=URI:https://stampinup.net/crm/events/70023
END:VEVENT
END:VCALENDAR
