BEGIN:VCALENDAR
VERSION:2.0
PRODID:icalendar-ruby
CALSCALE:GREGORIAN
METHOD:PUBLISH
BEGIN:VEVENT
DTSTAMP:20260424T231356Z
UID:event-69899@stampinup.net
DTSTART;TZID=Europe/London:20201010T210000
DTEND;TZID=Europe/London:20201017T220000
CREATED:20200919T132851
DESCRIPTION:I have teamed up with my upline Sandra Roberts and together as 
 Craftistic Creativity we bring you fun crafting classes\, events and Retre
 ats.\nDue to COVID and changeable Government guidelines\, we are unable to
  meet in person\, but fear not\, our ‘Festive Retreat In A Week’ will 
 be held virtually.  You will be able to relax in the comfort of your own 
 home\, but still have us with you teaching virtually via full colour instr
 uctions\, a dedicated FB group purely for this event\, ‘Live’ FB and Z
 oom sessions with both of us\, plus YouTube videos to watch at your own co
 nvenience\, that are exclusive for this Retreat.  \n\nContact myself or S
 andra for more information and a booking form.  We look forward to sharin
 g lots of gorgeous projects during our fun week\, with some bonus projects
  online.\n\nEvent link: https://stampinup.net/crm/events/69899
LAST-MODIFIED:20200919T132927
LOCATION:Home 
ORGANIZER;CN=Jacqui Lawrence:mailto:jacqui2_lawrence@yahoo.co.uk
SUMMARY:Festive Retreat  In A Week
URL;VALUE=URI:https://stampinup.net/crm/events/69899
END:VEVENT
END:VCALENDAR
