BEGIN:VCALENDAR
VERSION:2.0
PRODID:icalendar-ruby
CALSCALE:GREGORIAN
METHOD:PUBLISH
BEGIN:VEVENT
DTSTAMP:20260420T211846Z
UID:event-68865@stampinup.net
DTSTART;TZID=America/New_York:20201106T083000
DTEND;TZID=America/New_York:20201106T093000
CREATED:20200912T195042
DESCRIPTION:Want to make handmade greeting cards? Come join me for the next
  Quick &amp\; Cute Card Class at Tie One On Creativity Bar in Kingston on 
 Friday November 6th from 6:30-9:30pm\nCost is $35 ($30.97 + HST) and inclu
 des the Christmas Means More* stamp set and all the consumable products ne
 eded to create 6 handmade greeting cards (3 designs\, 2 cards of each desi
 gn)!\nRegistration for the class ends on October 29th to allow for orderin
 g\, and pre-paid registration is required to hold your spot. Register onli
 ne at https://stampandcreatewithlisa.net/products/november-quick-cute-car
 d-class-at-tie-one-on-creativity-bar\nSpace is limited to allow for social
  distancing\, and masks are required as per the emergency order for Kingst
 on.\nPlease do not bring outside food or drink\, food and drink are availa
 ble for purchase from Tie One On Creativity Bar (1329 Gardiners Rd. Suite 
 109 Kingston\, ON\, across from the Invista Centre)--make it the ultimate 
 night out and grab a few friends for dinner &amp\; cards! Parking is free.
  We will be located on the second level of the building\, and unfortunatel
 y\, it is not fully accessible. Unable to make the class? This class will 
 also be available in a to go format!\nUpcoming dates: Friday December 4th 
 (Warm Hugs stamp set*) from 6:30-9:30 pm\n*Although stamp sets are rarely 
 backordered\, in the event that the specified stamp set is unavailable on 
 October 29th\, another stamp set of equivalent value will be substituted.\
 n**Photo shown is other ideas using the same stampset\, but not the projec
 ts we will be making in class.\n\nEvent link: https://stampinup.net/crm/ev
 ents/68865
LAST-MODIFIED:20200912T195042
LOCATION:Tie One On Creativity Bar\, Kingston\, ON\, 1329 Gardiners Rd.\,  
 Suite 109 Kingston\, ON
ORGANIZER;CN=Lisa Henderson:mailto:lisa.henderson003@gmail.com
SUMMARY:November Quick & Cute Card Class at Tie One On Creativity Bar
URL;VALUE=URI:https://stampinup.net/crm/events/68865
END:VEVENT
END:VCALENDAR
