BEGIN:VCALENDAR
VERSION:2.0
PRODID:icalendar-ruby
CALSCALE:GREGORIAN
METHOD:PUBLISH
BEGIN:VEVENT
DTSTAMP:20260423T133107Z
UID:event-68727@stampinup.net
DTSTART;VALUE=DATE:20201003
DTEND;VALUE=DATE:20201003
CREATED:20200911T181052
DESCRIPTION:Details will be posted soon!\n\nEvent link: https://stampinup.n
 et/crm/events/68727
LAST-MODIFIED:20200911T181052
LOCATION:Zoom
ORGANIZER;CN=Maureen Hallman:mailto:mhallman1@gmail.com
SUMMARY:World Card Making Day
URL;VALUE=URI:https://stampinup.net/crm/events/68727
END:VEVENT
END:VCALENDAR
