BEGIN:VCALENDAR
VERSION:2.0
PRODID:icalendar-ruby
CALSCALE:GREGORIAN
METHOD:PUBLISH
BEGIN:VEVENT
DTSTAMP:20260421T042010Z
UID:event-6853@stampinup.net
DTSTART;TZID=America/Chicago:20191203T100000
DTEND;TZID=America/Chicago:20191203T123000
CREATED:20190913T185935
DESCRIPTION:Christmas Card Club\n--First week of the month--July-December\n
 Create 10 cards each month (5 each of 2 different designs)\nParticipate in
  all six months = have 60 Christmas cards ready by the first week of Decem
 ber.\nFull six month subscription $110 paid by June 30\n\nEach monthly cla
 ss $25\nRSVP by December 2\n\nEvent link: https://stampinup.net/crm/events
 /6853
LAST-MODIFIED:20191201T205039
LOCATION:My Stamping Spot\, El  Dorado\, Kansas
ORGANIZER;CN=Angel Shaver:mailto:angelstamps@adaptivecrafting.com
SUMMARY:Christmas Card Club
URL;VALUE=URI:https://stampinup.net/crm/events/6853
END:VEVENT
END:VCALENDAR
