BEGIN:VCALENDAR
VERSION:2.0
PRODID:icalendar-ruby
CALSCALE:GREGORIAN
METHOD:PUBLISH
BEGIN:VEVENT
DTSTAMP:20260420T183812Z
UID:event-68480@stampinup.net
DTSTART;TZID=America/Chicago:20201027T100000
DTEND;TZID=America/Chicago:20201027T130000
CREATED:20200910T133410
DESCRIPTION:Make a dozen Christmas/Holiday cards (4 each of 3 designs).  D
 oor prizes.  $40 minimum order (or $35 class fee).  Space is limited and
  these are popular classes so RSVP early.  Masks optional.\nBring:\n - B
 one Folder\n - Scissors\n - Stampin' Seal (permanent double-sided tape)\
 n\nEvent link: https://stampinup.net/crm/events/68480
LAST-MODIFIED:20200910T143529
LOCATION:My House\, 10609 Wild Oak Dr\, Frisco\, TX 75035
ORGANIZER;CN=Barbara Greenlee:mailto:Barbara@GreenMoonStampStudio.com
SUMMARY:Christmas Card Stamp-A-Stack
URL;VALUE=URI:https://stampinup.net/crm/events/68480
END:VEVENT
END:VCALENDAR
