BEGIN:VCALENDAR
VERSION:2.0
PRODID:icalendar-ruby
CALSCALE:GREGORIAN
METHOD:PUBLISH
BEGIN:VEVENT
DTSTAMP:20260421T221617Z
UID:event-6845@stampinup.net
DTSTART;TZID=America/Chicago:20190926T180000
DTEND;TZID=America/Chicago:20190926T203000
CREATED:20190913T184404
DESCRIPTION:Are you new to stamping or just want to make simple cards?  Do
  you love to stamp but want the chance to introduce a friend to stamping?
   Bring them to the simple stamp class and work on the stepped up version
  yourself. \nSimple Stamp Class = 4 cards: 2 cards each of 2 design\nCost
  = $5\nStep It Up = 5 cards: 2 cards each of 2 stepped up designs and one 
 card of a third design featuring a new technique or fun fold\nCost = $20\n
 \nRSVP by September 20 and let me know which class folder to make for you\
 n\nEvent link: https://stampinup.net/crm/events/6845
LAST-MODIFIED:20190913T191204
LOCATION:My Stamping Spot\, El  Dorado\, Kansas
ORGANIZER;CN=Angel Shaver:mailto:angelstamps@adaptivecrafting.com
SUMMARY:Simple Stamp or Step it Up Class
URL;VALUE=URI:https://stampinup.net/crm/events/6845
END:VEVENT
END:VCALENDAR
