BEGIN:VCALENDAR
VERSION:2.0
PRODID:icalendar-ruby
CALSCALE:GREGORIAN
METHOD:PUBLISH
BEGIN:VEVENT
DTSTAMP:20260423T223636Z
UID:event-68165@stampinup.net
DTSTART;TZID=America/New_York:20220810T190000
DTEND;TZID=America/New_York:20220810T200000
CREATED:20200908T184846
DESCRIPTION:Join me on my group Facebook page every Wednesday for a Live de
 monstration during my Tea Time &amp\; a Card. I will demonstrate technique
 s\, card folds\, 3D projects\, Samplers and more!\n\nEvent link: https://s
 tampinup.net/crm/events/68165
LAST-MODIFIED:20230810T091806
ORGANIZER;CN=Debbie Henderson:mailto:debbie@debbiehendersondesigns.com
SUMMARY:Tea Time & a Card
URL;VALUE=URI:https://stampinup.net/crm/events/68165
END:VEVENT
END:VCALENDAR
