BEGIN:VCALENDAR
VERSION:2.0
PRODID:icalendar-ruby
CALSCALE:GREGORIAN
METHOD:PUBLISH
BEGIN:VEVENT
DTSTAMP:20260421T233217Z
UID:event-6816@stampinup.net
DTSTART;TZID=America/Chicago:20191114T143000
DTEND;TZID=America/Chicago:20191114T200000
CREATED:20190913T182508
DESCRIPTION:We will make beautiful hand stamped cards for the holidays. Sta
 rt this class between 2:30 PM and 6 PM - whenever it best fits your schedu
 le. Just let me know what time you plan to come.\nCost $15.00 for 5 cards.
  ($13.00 if paid registration is received by October 11.)\nOr make 20 card
 s (4 each of 5) for $45.00 ($40.00 if paid registration is received by Oct
 ober 11.)\n\nYou can add this snowglobe card to the class for $4.00.\nSugg
 ested items to bring to class: Foam Pad or old Mouse Pad to get better imp
 ressions from photopolymer stamps. Silicone Craft Sheet for applying adhes
 ive to keep your work surface from getting sticky.\nCLICK HERE FOR A MAP T
 O CLASS LOCATION\n\nEvent link: https://stampinup.net/crm/events/6816
LAST-MODIFIED:20190929T112229
ORGANIZER;CN=Susan Miller:mailto:STAMPIN@DREAMLAKEDESIGN.COM
SUMMARY:Holiday Stampin' Class
URL;VALUE=URI:https://stampinup.net/crm/events/6816
END:VEVENT
END:VCALENDAR
