BEGIN:VCALENDAR
VERSION:2.0
PRODID:icalendar-ruby
CALSCALE:GREGORIAN
METHOD:PUBLISH
BEGIN:VEVENT
DTSTAMP:20260420T005623Z
UID:event-67671@stampinup.net
DTSTART;TZID=America/Los_Angeles:20200926T100000
DTEND;TZID=America/Los_Angeles:20200926T110000
CREATED:20200906T073727
DESCRIPTION: \n\nDo you need to get some inspiration?  You you want to do
  a Sketch Challenge?  Join me on my Facebook page at 10:00 AM PDT when I 
 give a Weekly Sketch Challenge.  Here is the link to the Page\n\n\nEvent 
 link: https://stampinup.net/crm/events/67671
LAST-MODIFIED:20200906T073939
LOCATION:My Studio Virtually
ORGANIZER;CN=Diane Evans:mailto:diane.evans.7669@gmail.com
SUMMARY:Weekly Sketch Challenge
URL;VALUE=URI:https://stampinup.net/crm/events/67671
END:VEVENT
END:VCALENDAR
