BEGIN:VCALENDAR
VERSION:2.0
PRODID:icalendar-ruby
CALSCALE:GREGORIAN
METHOD:PUBLISH
BEGIN:VEVENT
DTSTAMP:20260420T222104Z
UID:event-67209@stampinup.net
DTSTART;TZID=America/Chicago:20210410T130000
DTEND;TZID=America/Chicago:20210410T150000
CREATED:20200904T075229
DESCRIPTION:http://happy2stamp.stampinup.net \nDue to the Covid-19 pandemi
 c we are not having our second\nSaturday of each month craft day fun.  Bu
 t those that come to\nmy online store and order to do fun projects while s
 taying at\nhome will receive surprises mailed to them at the end of each\n
 month.  We miss getting together\, eating\, playing\, laughter\, and\ngoo
 d company.  Making fun projects to share.\n   I don't sew so could not 
 make masks but have made and\nmailed way over 100 encouragement cards for 
 those at home\nduring these times.  We will never forget 2020.\n\nEvent l
 ink: https://stampinup.net/crm/events/67209
LAST-MODIFIED:20200904T075329
LOCATION:Union City TN\, 1205 Sheridan Drive
ORGANIZER;CN=Patti Leeke:mailto:happycampersjpl@bellsouth.net
SUMMARY:Patti’s Crafters Delight
URL;VALUE=URI:https://stampinup.net/crm/events/67209
END:VEVENT
END:VCALENDAR
