BEGIN:VCALENDAR
VERSION:2.0
PRODID:icalendar-ruby
CALSCALE:GREGORIAN
METHOD:PUBLISH
BEGIN:VEVENT
DTSTAMP:20260419T181719Z
UID:event-67079@stampinup.net
DTSTART;TZID=America/New_York:20201022T100000
DTEND;TZID=America/New_York:20201022T120000
CREATED:20200903T141143
DESCRIPTION:\n\n	\n		\n			\n			\n			\n			Make 6 cards with envelopes (2 of 
 3 designs)\n\n			Choose from my LIVE event or VIRTUAL option\n\n			Class F
 ee Only $20 and includes your class PDF &amp\; pre-cut supply kit\n\n			Ad
 d On option available for Stamps \n\n			Email me for Links to Prepay for C
 lass \n\n			Pick up or Shipping just $8\n\n			RSVP and prepay by Friday\, 
 October 16th\n\n			Save your spot today LIVE Class size is limited due to 
 social distancing\n\n			Sign Up and prepay for my Stamp A Stack in Novembe
 r at the same time and get a discount!\n			\n			\n			\n		\n	\n\n\n\n\n\n\n
 Class PDF &amp\; Videos (no kit or product included) $15\n\nAdhesive not i
 ncluded \n\n \n\nNeed Adhesive? Let me know and I can have some for you a
 t class or in your Add On Option.\n\n\n\n\n\n\nEvent link: https://stampin
 up.net/crm/events/67079
LAST-MODIFIED:20201014T143918
LOCATION:LIVE or Virtual
ORGANIZER;CN=Jini Merck:mailto:stampwithjini@gmail.com
SUMMARY:Snowflake Card Class
URL;VALUE=URI:https://stampinup.net/crm/events/67079
END:VEVENT
END:VCALENDAR
