BEGIN:VCALENDAR
VERSION:2.0
PRODID:icalendar-ruby
CALSCALE:GREGORIAN
METHOD:PUBLISH
BEGIN:VEVENT
DTSTAMP:20260422T115312Z
UID:event-67032@stampinup.net
DTSTART;TZID=Europe/London:20220817T200000
DTEND;TZID=Europe/London:20220817T210000
CREATED:20200903T130256
DESCRIPTION:Special Show &amp\; Tell sessions to keep us connected througho
 ut the pandemic. We meet up via Zoom and show off our creations from the w
 eek\, plus have a catch-up chat. I set a weekly challenge which is entirel
 y optional. Free to attend for customers\, class-goers and team members\, 
 and linked to my exclusive Hel's Angels Facebook/Whatsapp groups.\n\nEvent
  link: https://stampinup.net/crm/events/67032
LAST-MODIFIED:20220928T141423
LOCATION:Your house
ORGANIZER;CN=Helen Read:mailto:allthingsstampy@gmail.com
SUMMARY:Show & Tell
URL;VALUE=URI:https://stampinup.net/crm/events/67032
END:VEVENT
END:VCALENDAR
