BEGIN:VCALENDAR
VERSION:2.0
PRODID:icalendar-ruby
CALSCALE:GREGORIAN
METHOD:PUBLISH
BEGIN:VEVENT
DTSTAMP:20260424T044354Z
UID:event-66666@stampinup.net
DTSTART;TZID=Europe/Vienna:20201110T140000
DTEND;TZID=Europe/Vienna:20201110T170000
CREATED:20200902T005042
DESCRIPTION:Auszeit vom hektischen Alltag und in gemütlicher Runde kreativ
  sein. Ich zeige in meinen Workshops wie man mit einfachen Mitteln individ
 uelle Karten und Verpackungen gestalten kann.\nAusreichend Bastelmaterial 
 ist vorhanden. \nNur für Erwachsene\nAnmeldung: Doris Pichler +43 664 63
 0 7603 oder office@dorispichler.at\n\nEvent link: https://stampinup.net/cr
 m/events/66666
LAST-MODIFIED:20200902T005042
LOCATION:Hallein\, Metzgergasse 9
ORGANIZER;CN=Doris Pichler:mailto:office@dorispichler.at
SUMMARY:Basteldienstag
URL;VALUE=URI:https://stampinup.net/crm/events/66666
END:VEVENT
END:VCALENDAR
