BEGIN:VCALENDAR
VERSION:2.0
PRODID:icalendar-ruby
CALSCALE:GREGORIAN
METHOD:PUBLISH
BEGIN:VEVENT
DTSTAMP:20260421T131907Z
UID:event-66577@stampinup.net
DTSTART;TZID=America/Los_Angeles:20200930T180000
DTEND;TZID=America/Los_Angeles:20200930T200000
CREATED:20200901T173115
DESCRIPTION:We will be making 20 Cracker Box Treats! Each cracker box trea
 t package can be customized to celebrate Halloween\, Thanksgiving\, the au
 tumn season\, Make them all the same\, or some of all three! Use them for 
 your children's classmates\, or for Trick or Treating\, or for your Thanks
 giving table settings. Or come up with your own ideas!\n\n\nYour cost is o
 nly $22 for porch pick up\, or $25 to have it mailed direct to you. Regist
 rations must be paid by 09/05/2020 for this class. The class will be held 
 on Zoom on Wednesday\, September 30th. \n\nYou will get your own festive
 \, fall-themed Paper Pumpkin kit. This month’s kit includes reversible 
 patterned paper\, a multi-occasion stamp set\, and a variety of die-cut de
 signs—all in a special box. If Cracker Treat Boxes does not appeal to yo
 u\, I will have some alternate card designs to show you. You will also nee
 d a pack of Note Cards and Envelopes\, to complete the cards. \n\n \n\n\
 nEvent link: https://stampinup.net/crm/events/66577
LAST-MODIFIED:20200911T015433
LOCATION:Online\, Rancho Cordova\, CA
ORGANIZER;CN=Debbi Green:mailto:DOGRRRL@SBCGLOBAL.NET
SUMMARY:Pumpkin Gathering
URL;VALUE=URI:https://stampinup.net/crm/events/66577
END:VEVENT
END:VCALENDAR
