BEGIN:VCALENDAR
VERSION:2.0
PRODID:icalendar-ruby
CALSCALE:GREGORIAN
METHOD:PUBLISH
BEGIN:VEVENT
DTSTAMP:20260424T070534Z
UID:event-66343@stampinup.net
DTSTART;VALUE=DATE:20200901
DTEND;VALUE=DATE:20200930
CREATED:20200831T200756
DESCRIPTION:The Starter Kit is a great deal for $99. You get to choose $125
  in Stampin' Up products to go in that kit -- it's all up to you what you 
 want in your Starter Kit!\n\n \n\nIf you join before September 30th\, in 
 addition to the Starter Kit\, you will also receive pre-cut cardstock piec
 es to make 16 cards (along with tutorials to match)\, a package of Rhinest
 one Jewels\, the So Much Love stamp set\, and the Queen Anne’s Lace stam
 p set! Talk about a great time to join!!!\n\n \n\nNeed a little more? How
  about FREE SHIPPING on your Starter Kit and a FREE Paper Pumpkin box! All
  of this adds up to about $82. It's over a $200 value for $99. What are yo
 u waiting for? \n\n\nEvent link: https://stampinup.net/crm/events/66343
LAST-MODIFIED:20200831T200756
ORGANIZER;CN=Brenda Paulsen:mailto:brenda@mypastorswifedesigns.com
SUMMARY:Starter Kit Promotion
URL;VALUE=URI:https://stampinup.net/crm/events/66343
END:VEVENT
END:VCALENDAR
